BEGIN:VCALENDAR
VERSION:2.0
PRODID:-//Gemeinschaftsschule Am Heimgarten Ahrensburg - ECPv6.15.20//NONSGML v1.0//EN
CALSCALE:GREGORIAN
METHOD:PUBLISH
X-WR-CALNAME:Gemeinschaftsschule Am Heimgarten Ahrensburg
X-ORIGINAL-URL:https://gemeinschaftsschule-am-heimgarten.de
X-WR-CALDESC:Veranstaltungen für Gemeinschaftsschule Am Heimgarten Ahrensburg
REFRESH-INTERVAL;VALUE=DURATION:PT1H
X-Robots-Tag:noindex
X-PUBLISHED-TTL:PT1H
BEGIN:VTIMEZONE
TZID:Europe/Berlin
BEGIN:DAYLIGHT
TZOFFSETFROM:+0100
TZOFFSETTO:+0200
TZNAME:CEST
DTSTART:20230326T010000
END:DAYLIGHT
BEGIN:STANDARD
TZOFFSETFROM:+0200
TZOFFSETTO:+0100
TZNAME:CET
DTSTART:20231029T010000
END:STANDARD
BEGIN:DAYLIGHT
TZOFFSETFROM:+0100
TZOFFSETTO:+0200
TZNAME:CEST
DTSTART:20240331T010000
END:DAYLIGHT
BEGIN:STANDARD
TZOFFSETFROM:+0200
TZOFFSETTO:+0100
TZNAME:CET
DTSTART:20241027T010000
END:STANDARD
BEGIN:DAYLIGHT
TZOFFSETFROM:+0100
TZOFFSETTO:+0200
TZNAME:CEST
DTSTART:20250330T010000
END:DAYLIGHT
BEGIN:STANDARD
TZOFFSETFROM:+0200
TZOFFSETTO:+0100
TZNAME:CET
DTSTART:20251026T010000
END:STANDARD
END:VTIMEZONE
BEGIN:VEVENT
DTSTART;VALUE=DATE:20241003
DTEND;VALUE=DATE:20241004
DTSTAMP:20260421T102339
CREATED:20240917T091615Z
LAST-MODIFIED:20240917T091615Z
UID:5158-1727913600-1727999999@gemeinschaftsschule-am-heimgarten.de
SUMMARY:Tag der Deutschen Einheit
DESCRIPTION:unterrichtsfrei
URL:https://gemeinschaftsschule-am-heimgarten.de/termin/tag-der-deutschen-einheit-3/
CATEGORIES:Events
END:VEVENT
BEGIN:VEVENT
DTSTART;VALUE=DATE:20241004
DTEND;VALUE=DATE:20241005
DTSTAMP:20260421T102339
CREATED:20240705T051455Z
LAST-MODIFIED:20240705T051455Z
UID:5024-1728000000-1728086399@gemeinschaftsschule-am-heimgarten.de
SUMMARY:Beweglicher Ferientag
DESCRIPTION:unterrichtsfrei
URL:https://gemeinschaftsschule-am-heimgarten.de/termin/beweglicher-ferientag-12/
CATEGORIES:Ferien
END:VEVENT
BEGIN:VEVENT
DTSTART;VALUE=DATE:20241007
DTEND;VALUE=DATE:20241008
DTSTAMP:20260421T102339
CREATED:20240705T051605Z
LAST-MODIFIED:20240705T051605Z
UID:5026-1728259200-1728345599@gemeinschaftsschule-am-heimgarten.de
SUMMARY:SE-Tag
DESCRIPTION:unterrichtsfrei
URL:https://gemeinschaftsschule-am-heimgarten.de/termin/se-tag-4/
CATEGORIES:Schüler
END:VEVENT
BEGIN:VEVENT
DTSTART;VALUE=DATE:20241018
DTEND;VALUE=DATE:20241019
DTSTAMP:20260421T102339
CREATED:20240725T105749Z
LAST-MODIFIED:20240725T105749Z
UID:5098-1729209600-1729295999@gemeinschaftsschule-am-heimgarten.de
SUMMARY:Kein Unterricht!
DESCRIPTION:am 13.7.24 vorgearbeitet
URL:https://gemeinschaftsschule-am-heimgarten.de/termin/kein-unterricht/
CATEGORIES:Eltern,Schüler
END:VEVENT
BEGIN:VEVENT
DTSTART;VALUE=DATE:20241021
DTEND;VALUE=DATE:20241102
DTSTAMP:20260421T102339
CREATED:20240705T051715Z
LAST-MODIFIED:20240705T051810Z
UID:5028-1729468800-1730505599@gemeinschaftsschule-am-heimgarten.de
SUMMARY:Herbstferien
DESCRIPTION:
URL:https://gemeinschaftsschule-am-heimgarten.de/termin/herbstferien-6/
CATEGORIES:Ferien
END:VEVENT
END:VCALENDAR